BEGIN:VCALENDAR
VERSION:2.0
PRODID:-//wp-events-plugin.com//7.2.3.1//EN
BEGIN:VEVENT
UID:7369@southernaidscoalition.org
DTSTART;VALUE=DATE:20330518
DTEND;VALUE=DATE:20330519
DTSTAMP:20240904T151946Z
URL:https://southernaidscoalition.org/events/hiv-vaccine-awareness-day-203
 3-05-18/
SUMMARY:HIV Vaccine Awareness Day
DESCRIPTION:This day is a time to educate communities about the importance 
 of preventive\, safe\, and effective HIV vaccine research.
ATTACH;FMTTYPE=image/jpeg:https://southernaidscoalition.org/wp-content/upl
 oads/2024/08/Edit-Event-HIV-Vaccine-Awareness-Day-‹-Southern-AIDS-Coalit
 ion.webp
CATEGORIES:Awareness Day
END:VEVENT
END:VCALENDAR